BEGIN:VCALENDAR
VERSION:2.0
PRODID:-//Cádiz es Flamenco - ECPv5.0.2.1//NONSGML v1.0//EN
CALSCALE:GREGORIAN
METHOD:PUBLISH
X-WR-CALNAME:Cádiz es Flamenco
X-ORIGINAL-URL:https://www.cadizesflamenco.com
X-WR-CALDESC:Eventos para Cádiz es Flamenco
BEGIN:VTIMEZONE
TZID:UTC
BEGIN:STANDARD
TZOFFSETFROM:+0000
TZOFFSETTO:+0000
TZNAME:UTC
DTSTART:20250101T000000
END:STANDARD
END:VTIMEZONE
BEGIN:VEVENT
DTSTART;TZID=UTC:20250809T220000
DTEND;TZID=UTC:20250809T220000
DTSTAMP:20260425T215934
CREATED:20250809T220012Z
LAST-MODIFIED:20250910T105304Z
UID:22426-1754776800-1754776800@www.cadizesflamenco.com
SUMMARY:FRENTE ABIERTO con LELA SOTO y SEBASTIÁN CRUZ
DESCRIPTION:[vc_row][vc_column][vc_column_text]9 de agosto 22h \nCastillo de Santa Catalina \nFRENTE ABIERTO con LELA SOTO y SEBASTIÁN CRUZ presenta «GUERRA A TODO ESO» Música. Flamenco / Rock. \nPrecio: 15€; Menores de 25 años: 6€; Abono de los 5 espectáculos: 60€ \nCOMPRAR ENTRADAS[/vc_column_text][/vc_column][/vc_row][vc_row][vc_column][vc_column_text]Raúl Cantizano\, guitarra flamenca \nCarlos Pérez\, guitarra eléctrica \nDavid Cordero\, electrónica \nMarco Serrato\, contrabajo \nBorja Díaz\, batería \nLela Soto\, cante \nSebastian Cruz\, cante \n  \nFrente Abierto es un colectivo de músicos andaluces cuyos proyectos particulares giran en torno a la experimentación sonora con las voces más potentes de nuestro nuevo flamenco\, como la de Lela Soto\, genuina cantaora de la familia Sordera o Sebastián Cruz. \nUna súper banda de rock vanguardista\, con un espectáculo que es un auténtico viaje. Una nueva propuesta de fusión de estilos que es heavy y a la vez sutil\, es puro flamenco y rock oscuro al mismo tiempo\, es tradicional y moderno. \n  \nFRENTE ABIERTO es un colectivo de músicos andaluces encabezado por Marco Serrato\, cuyos proyectos particulares giran en torno a géneros tan dispares como el pulso metal de Orthodox o Altair\, los paisajes ambientE de David Cordero o la guitarra de Raúl Cantizano como clave traductora de la música flamenca. Su música fusiona la experimentación sonora con las voces más potentes de nuestro nuevo flamenco. Como la de Israel Fernández\, cantaor de visión contemporánea pero bien anclado en la tradición\, o la de Lela Soto\,genuina cantaora de la familia Sordera. \nUna super banda de rock vanguardista\, con un espectáculo que es un auténtico viaje. Una aventura que discurre entre universos sonoros tan variados como los de Lankum\, Earth\, Sleep\, Neil Young o Portishead\, pero en clave flamenca. Una nueva propuesta de fusión de estilos que es heavy y a la vez sutil\, es puro flamenco y rock oscuro al mismo tiempo\, es tradicional y moderno \nFrente abierto son Raúl Cantizano (guitarra flamenca)\, Carlos Pérez (guitarra eléctrica)\, David Cordero (electrónica)\, Marco Serrato (contrabajo) y Borja Díaz (batería).Después de su estreno en «petit comité» en el ciclo Antioxidante de Bullas (Murcia)\,Frente Abierto con Israel Fernández y Lela Soto harán su estreno oficial el próximo jueves 22 de agosto de 2024 dentro de la programación del festival CanelaParty de Torremolinos.Antes\, en junio\, el proyecto pasará por La Mina Estudios\, con Raúl Pérez\, para dar forma al que será el disco debut de este fascinante proyecto. En la grabación\, además de Israel Fernández y Lela Soto\, participará un selecto elenco de cantaores/as: Inés Bacán\, Sebastián Cruz\, Itoli de los Palacios y Ángeles Toledano. \n  \nLELA SOTO (Madrid\,1992) es una de las voces jóvenes más asentada y con mayor proyección del panorama actual. Aunque nacida en Madrid\, su cante es eminentemente jerezano. Lela representa la rama más joven de una de las sagas artísticas más importantes de todos los tiempos\, aquella que nace en Paco La Luz y que pasa por El Gloria o La Pompi hasta desembocar en su abuelo Sordera\, su padre Vicente y sus tíos Enrique\, El Boy Sorderita. También recibe influencias por la parte materna\, su madre\, la bailaora Luisa Heredia es hermana del mítico Ray Heredia\, referencia fundamental del nuevo flamenco. Lela canaliza todas estas influencias a las que suma sus inquietudes musicales para conformar una manera de decir el cante muy personal y fresca. \nEntre sus cualidades se pueden destacar su gran afinación\,su sentido del rítmo\, su musicalidad y la flamencura de su voz. Está considerada por la crítica especializada como una de las voces jóvenes de referencia. A pesar de su edad atesora un gran bagaje artístico habiendo colaborado desde niña con artistas de la talla de Alejandro Sanz\, Niña Pastori o Pitingo entre otros.\nHa cosechado éxitos en alquno de los festivales más relevantes del flamenco como el Festival de Jerez- premio de la crítica-\,la Bienal de Holanda\, la  Suma Flamenca de\nMadrid\, la Bienal de Málaga\, la Bienal de Sevilla\,el Festival Flamenco de Toulouse o  el World Music Festival de Copenhague. \nActualmente se encuentra inmersa en varios proyectos\, uno de los que ha irrumpido con más fuerza en el panorama nacional e internacional es el que tiene junto a Frente Abierto y su compañero Israel Fernández donde el flamenco se fusiona con sonidos pesados y experimentales. \n  \nVENTA DE ENTRADAS \nPrecio 15€ por espectáculo en el Castillo Santa Catalina\, \nPrecios especiales para menores de 25 años: 6€ por espectáculo \nAbono 5 espectáculos CASTILLO SANTA CATALINA : 60€ \nEl ciclo Flamenco en los Balcones es GRATUITO. \n  \nTAQUILLA GRAN TEATRO FALLA \nDe martes a viernes de 10.30h. a 13.30h. (julio y agosto) \n  \nTAQUILLA CASTILLO SANTA CATALINA \n1 hora antes del comienzo de cada espectáculo. Solo se podrán adquirir localidades para el espectáculo de ese día\, siempre que queden entradas disponibles. \n  \nSERVICIOS DE BACANTIX \nCOMPRAR ENTRADAS \nLas localidades adquiridas a través de los servicios de Bacantix generan comisión. \n  \n\nUna vez comenzado el espectáculo\, no está permitido el acceso al espacio.\nLos menores a partir de 3 años\, abonarán su localidad.\nNo se admiten reservas\, cambios ni devoluciones.\nEl acceso al espacio no estará permitido con bebidas y/o alimentos.\n\n  \n+ info: \nwww.cadizesflamenco.com \n  \nFACEBOOK / TWITTER:  @FlamencoCadiz \nINSTAGRAM /YOUTUBE: @cadizesflamenco \n[/vc_column_text][/vc_column][/vc_row] \n
URL:https://www.cadizesflamenco.com/event/lela-soto-sebastian-cruz-castillo-santa-catalina/
LOCATION:Castillo de Santa Catalina Cádiz\, C/ Antonio Burgos\, s/n\, Cádiz\, Cádiz\, España
CATEGORIES:Festival Patrimonio Flamenco 2025
ATTACH;FMTTYPE=image/jpeg:https://www.cadizesflamenco.com/wp-content/uploads/2025/06/9-AGOSTO-FRENTE-ABIERTO-Adriana-Vicenti-2-scaled.jpeg
END:VEVENT
END:VCALENDAR