BEGIN:VCALENDAR
VERSION:2.0
PRODID:-//Cádiz es Flamenco - ECPv5.0.2.1//NONSGML v1.0//EN
CALSCALE:GREGORIAN
METHOD:PUBLISH
X-WR-CALNAME:Cádiz es Flamenco
X-ORIGINAL-URL:https://www.cadizesflamenco.com
X-WR-CALDESC:Eventos para Cádiz es Flamenco
BEGIN:VTIMEZONE
TZID:UTC
BEGIN:STANDARD
TZOFFSETFROM:+0000
TZOFFSETTO:+0000
TZNAME:UTC
DTSTART:20250101T000000
END:STANDARD
END:VTIMEZONE
BEGIN:VEVENT
DTSTART;TZID=UTC:20250806T220000
DTEND;TZID=UTC:20250806T220000
DTSTAMP:20260425T190028
CREATED:20250806T220039Z
LAST-MODIFIED:20250910T104908Z
UID:22413-1754517600-1754517600@www.cadizesflamenco.com
SUMMARY:JOSEMI CARMONA "MI VIDA\, MI MÚSICA"
DESCRIPTION:[vc_row][vc_column][vc_single_image image=»22792″ img_size=»medium»][vc_column_text]6 de agosto 22h \nCastillo de Santa Catalina \nJosemi Carmona \nPrecio: 15€; Menores de 25 años: 6€; Abono de los 5 espectáculos: 60€ \nCOMPRAR ENTRADAS[/vc_column_text][/vc_column][/vc_row][vc_row][vc_column][vc_column_text]JOSEMI CARMONA «MI VIDA\, MI MÚSICA» \nUn viaje musical por mi trayectoria artística. \nEste espectáculo ofrece una inmersión en la evolución artística de Josemi Carmona\, desde sus raíces en el flamenco más puro hasta su papel revolucionario como miembro de Ketama\, donde el “Nuevo Flamenco” encontró su mayor proyección. Tiene ecos del innovador «Omega» de Enrique Morente & Lagartija Nick\, reminiscencias de la intensidad de Camarón y sonoridad de Miles o Ibrahim Maalouf. La propuesta transita con fluidez entre el flamenco\, el rock\, el pop y el jazz\, abriendo nuevas fronteras sonoras y explorando las posibilidades de un flamenco en constante diálogo con otros géneros. \n  \nFicha artística:\nJosemi Carmona\, guitarra\nRafita de Madrid\, cante\nJosué “Ronkio”\, bajo\nEnriquito\, trompeta\nBandolero\, percusión \n  \nJOSEMI CARMONA (Madrid\, 1971) es una figura clave en la música española\, el flamenco y la guitarra\, heredero de un legado artístico de cuatro generaciones. Comenzó a tocar la guitarra a los tres años y\, a los 14\, se unió a Ketama\, pioneros del «Nuevo Flamenco»\, con quienes recorrió el mundo y vendió más de un millón de discos.  A los 15 años participó en la gira Estadounidense del espectáculo Flamenco Puro\, donde acompañó a las máximas figuras del flamenco como Farruco\, Chocolate\, Adela de Chaquetas y el Güito\, entre otros. Además\, colaboró con artistas como Paco de Lucía y Alejandro Sanz\, y produjo a Niña Pastori. \nTras 20 años con Ketama\, inició su carrera en solitario\, fusionando flamenco con otros géneros y colaborando con figuras como Dave Holland y Jorge Drexler. \nSu álbum debut\, Las Pequeñas Cosas\, fue nominado a los Latin Grammy 2011. \nEn 2016 lanzó el proyecto de flamenco-jazz De Cerca junto a Javier Colina\, consolidándose como un referente del género. \nEn 2019 regresó con Ketama en la gira «No estamos Lokos»\, mientras seguía desarrollando proyectos propios. \nEn 2022 lanzó el álbum Vida con Colina y Bandolero\, actualmente sigue girando con este proyecto y con el reciente  “Mi vida\, mi música”. \nJosemi Carmona ha ejercido como director artístico de Flamenco Legacy en el prestigioso Carnegie Hall de Nueva York\, una iniciativa de la Fundación Paco de Lucía. Paralelamente\, mantiene una activa colaboración artística junto a su padre\, el legendario Pepe Habichuela\, y la cantaora Soleá Morente\, consolidando su conexión con las grandes sagas del flamenco. Además\, está a punto de lanzar su más reciente producción discográfica\, el próximo álbum de la reconocida Esperanza Fernández\, reafirmando su papel como productor y creador clave en el panorama musical actual. \n  \nVENTA DE ENTRADAS \nPrecio 15€ por espectáculo en el Castillo Santa Catalina\, \nPrecios especiales para menores de 25 años: 6€ por espectáculo \nAbono 5 espectáculos CASTILLO SANTA CATALINA : 60€ \nEl ciclo Flamenco en los Balcones es GRATUITO. \n  \nTAQUILLA GRAN TEATRO FALLA \nDe martes a viernes de 10.30h. a 13.30h. (julio y agosto) \n  \nTAQUILLA CASTILLO SANTA CATALINA \n1 hora antes del comienzo de cada espectáculo. Solo se podrán adquirir localidades para el espectáculo de ese día\, siempre que queden entradas disponibles. \n  \nSERVICIOS DE BACANTIX \nCOMPRAR ENTRADAS \nLas localidades adquiridas a través de los servicios de Bacantix generan comisión. \n  \n\nUna vez comenzado el espectáculo\, no está permitido el acceso al espacio.\nLos menores a partir de 3 años\, abonarán su localidad.\nNo se admiten reservas\, cambios ni devoluciones.\nEl acceso al espacio no estará permitido con bebidas y/o alimentos.\n\n  \n+ info: \nwww.cadizesflamenco.com \n  \nFACEBOOK / TWITTER:  @FlamencoCadiz \nINSTAGRAM /YOUTUBE: @cadizesflamenco \n[/vc_column_text][/vc_column][/vc_row] \n
URL:https://www.cadizesflamenco.com/event/josemi-carmona-mi-vida-mi-musica/
LOCATION:Castillo de Santa Catalina Cádiz\, C/ Antonio Burgos\, s/n\, Cádiz\, Cádiz\, España
CATEGORIES:Festival Patrimonio Flamenco 2025
ATTACH;FMTTYPE=image/jpeg:https://www.cadizesflamenco.com/wp-content/uploads/2025/06/6-AGOSTO-JOSEMI-CARMONA-2025COPY-Anya-Bartels-Suermondt-6-scaled.jpg
END:VEVENT
END:VCALENDAR