BEGIN:VCALENDAR
VERSION:2.0
PRODID:-//Cádiz es Flamenco - ECPv5.0.2.1//NONSGML v1.0//EN
CALSCALE:GREGORIAN
METHOD:PUBLISH
X-WR-CALNAME:Cádiz es Flamenco
X-ORIGINAL-URL:https://www.cadizesflamenco.com
X-WR-CALDESC:Eventos para Cádiz es Flamenco
BEGIN:VTIMEZONE
TZID:UTC
BEGIN:STANDARD
TZOFFSETFROM:+0000
TZOFFSETTO:+0000
TZNAME:UTC
DTSTART:20240101T000000
END:STANDARD
END:VTIMEZONE
BEGIN:VEVENT
DTSTART;TZID=UTC:20240420T120000
DTEND;TZID=UTC:20240420T140000
DTSTAMP:20260425T160405
CREATED:20240408T073417Z
LAST-MODIFIED:20240502T104129Z
UID:20071-1713614400-1713621600@www.cadizesflamenco.com
SUMMARY:ENCUENTRO FLAMENCO con JUAN JOSÉ JAÉN "EL JUNCO"
DESCRIPTION:20 DE ABRIL 12h a 14h \nENCUENTRO FLAMENCO con JUAN JOSÉ JAÉN “EL JUNCO” \nFormación. Baile. Todos los niveles. Entrada libre hasta completar aforo \nIndumentaria: Ropa cómoda y calzado de calle\, no se necesita calzado especial de flamenco. \n Disfruta de una mañana para compartir el flamenco con Juan José Jaén EL JUNCO\, un momento de arte\, cultura\, diálogo\, técnica y lenguaje flamenco\, pero sobre todo un rato de diversión para compartir con amigos\, familia\, …. abierto a todo el mundo! \n  \n JUAN JOSÉ JAÉN “EL JUNCO” \nPremio Max 2008 Mejor Intérprete Masculino de Danza \nJuan José Jaén Arroyo «El Junco»\, nació en Cádiz\, en el barrio de Santa Maria. A los 8 años de edad\, fue la maestra Paqui Braza\, con la que comienza sus primeros pasos de baile\, pero su verdadero descubridor\, Vicente Marrero con el Grupo de Danza Solea\, con el cual comienza a recorrer toda Andalucía. \nPasados unos años\, entra a formar parte del cuadro oficial de la peña flamenca Enrique el Mellizo\, participando en programas de televisión\, (Canal Sur\, TVE\, TV alemana)\, y comienza a compartir escenarios con grandes artistas del flamenco\, (Adela la Chaqueta\, Alfonso Gaspar\, Chano Lobato\, Tío Gineto\, Juan Villar\, etc). \nAmplia sus estudios en Jerez\, de la mano del maestro Fernando Belmonte\, (clásico español\, ballet clásico). \nEn el año 1993\, sigue su formación en Sevilla\, con el gran maestro Manolo Marín\, durante varios años. \nEn ese mismo año gana el concurso nacional de baile flamenco en la Peña Flamenca de Huelva\, siendo jurado Cristina Hoyos\, Manolo Marín\, Milagros Mengibar. \nTras varias actuaciones y cursos por el extranjero\, desde el año 1996 hasta el 2005 entra a formar parte como bailarín solista\, de la compañía de Cristina Hoyos\, representado los espectáculos «Caminos Andaluces»\, «Arsa y Toma» (director Ramón Oller)\, «Al Compás de Tiempo»\, «Tierra Dentro» (director José Luis Castro)\, «Tiempo y Compás» y «Yerma» (director José Carlos Plaza). Este último espectáculo se representaría con el Ballet Flamenco de Andalucía\, en el cual entra como bailarín solista y coreógrafo. También dirigido por la maestra Cristina Hoyos donde está desde el año 2005 hasta el 2007. Representado como bailarín y coreógrafo los espectáculos\, «Viaje al Sur» y «Romancero Gitano». \nTras este periplo con la compañía\, recorre los mejores escenarios del mundo\, participa en festivales de gran relevancia\, New York\, Tokio\, Paris\, Berlín\, Pekín\, Milán\, Toronto\, Florencia. \nEs nominado para los premios Max de las artes escénicas\, como mejor interprete de danza masculino\, junto a Antonio Canales y Rafael Amargo. \nTambién trabaja en solitario\, presentando sus propios espectáculos flamencos por España y parte de Europa\, llamado «La hora de Duende». Colabora como artista invitado\, junto a músicos como Pedro Sierra\, José Luis Rodríguez\, cantaores como Guadiana. \nParticipa en eventos culturales\, para diferentes organizaciones\, que ayudan a los enfermos\, discapacitados\, presos\, etc. Aspademis\, Cepa\, Hospital Puerta del Mar. \nEn el año 2007\, presenta en el festival flamenco de jerez\, su último espectáculo\, «JUNQUERIAS»\, junto artistas de la talla de David Palomar\, David Lagos\, Ramón Amador y como bailaora invitada su mujer Susana Casas. Obteniendo buena critica de público y prensa. Es llevado al ciclo Flamenco Viene de Sur\, en el teatro Central de Sevilla y teatro Canovas de Málaga\, Festival Ciutát Vella de Barcelona\, Teatro Pemán en Cádiz. \nTambién en el año 07\, estrena un espectáculo\, como director de coreografía y primer bailaor\, producido por al agencia para el desarrollo del flamenco \,dirigido por Pepa Gamboa\, llamado «CADIZ»\, estrenado en el Teatro Falla\, Málaga en Flamenco\, Maestranza de Sevilla\, Madrid\, Gran Teatro de Córdoba\, siendo uno de los espectáculos mas esperados\, para las programaciones de las próximas temporadas. \nLa SGAE (sociedad general de autores)\, le ha otorgado el Premio MAX de las Artes Escénicas como Mejor Interprete Masculino de Danza 2008\, por la obra Romancero Gitano. \n
URL:https://www.cadizesflamenco.com/event/encuentro-flamenco-junco/
LOCATION:Centro Flamenco La Merced\, Plaza de la Merced\, Cádiz\, Cádiz\, 11005\, España
CATEGORIES:Formación La Merced Primavera 2024
ATTACH;FMTTYPE=image/jpeg:https://www.cadizesflamenco.com/wp-content/uploads/2024/04/EL-JUNCO-20-ABRIL-CARMEN-KAHLO-4.jpg
END:VEVENT
END:VCALENDAR