BEGIN:VCALENDAR
VERSION:2.0
PRODID:-//Cádiz es Flamenco - ECPv5.0.2.1//NONSGML v1.0//EN
CALSCALE:GREGORIAN
METHOD:PUBLISH
X-WR-CALNAME:Cádiz es Flamenco
X-ORIGINAL-URL:https://www.cadizesflamenco.com
X-WR-CALDESC:Eventos para Cádiz es Flamenco
BEGIN:VTIMEZONE
TZID:UTC
BEGIN:STANDARD
TZOFFSETFROM:+0000
TZOFFSETTO:+0000
TZNAME:UTC
DTSTART:20250101T000000
END:STANDARD
END:VTIMEZONE
BEGIN:VEVENT
DTSTART;TZID=UTC:20250405T123000
DTEND;TZID=UTC:20250405T123000
DTSTAMP:20260425T155551
CREATED:20240405T140049Z
LAST-MODIFIED:20250910T104138Z
UID:21237-1743856200-1743856200@www.cadizesflamenco.com
SUMMARY:CLASE MAGISTRAL: EZEQUIEL BENITEZ  “Cantes de Jerez”
DESCRIPTION:[vc_row][vc_column][vc_column_text]5 de abril.  12.30h a 14.00h \nEZEQUIEL BENITEZ  “Cantes de Jerez” \nCante. Todos los niveles. \nJerez guarda en sus cantes y en sus formas una flamenquería poco inusual y Ezequiel Benitez nos adentrará a los secretos más ocultos que guarda el cante de Jerez. \n  \nVENTA DE ENTRADAS \nLos cursos de formación estarán a la venta hasta un día antes del comienzo de los mismos. Imprescindible rellenar el formulario de inscripción al realizar la compra del curso. \nPago mediante tarjeta bancaria. \n  \nTAQUILLA GRAN TEATRO FALLA\nDe martes a viernes de 10.30h. a 13.30h y de 17:30h a 20:00h \nTAQUILLA CENTRO FLAMENCO LA MERCED\n1 hora antes del comienzo de cada espectáculo. Solo se podrán adquirir localidades para el espectáculo de ese día\, siempre que queden entradas disponibles. \nSERVICIOS DE BACANTIX\nPor internet https://www.bacantix.com/aytocadiz\nLas localidades adquiridas a través de los servicios de Bacantix generan comisión. \n  \n• Una vez comenzado el espectáculo\, no está permitido el acceso al espacio.\n• Los menores a partir de 3 años\, abonarán su localidad.\n• No se admiten reservas\, cambios ni devoluciones.\n• El acceso al espacio no estará permitido con bebidas y/o alimentos. \nLas actuaciones son con asiento asignado\, excepto el día 21 de junio que el concierto será de pie. \nLOS DATOS QUE APARECEN EN ESTE PROGRAMA ESTÁN SUJETOS A POSIBLES CAMBIOS. \nTeatro adaptado a la normativa de Ley 4/2017 de 25 de septiembre\, de los Derechos y la Atención a las Personas con Discapacidad en Andalucia \n  \n+info:\nwww.cadizesflamenco.com\nFB y X: @FlamencoCadiz\nInstagram y YouTube: cadizesflamenco\ncadizesflamenco@gmail.com[/vc_column_text][/vc_column][/vc_row] \n
URL:https://www.cadizesflamenco.com/event/clase-magistral-ezequiel-benitez-cantes-jerez/
LOCATION:Centro Flamenco La Merced\, Plaza de la Merced\, Cádiz\, Cádiz\, 11005\, España
CATEGORIES:Formación La Merced Primavera 2025
ATTACH;FMTTYPE=image/jpeg:https://www.cadizesflamenco.com/wp-content/uploads/2024/12/ezequiel-benitez2.jpg
END:VEVENT
END:VCALENDAR