BEGIN:VCALENDAR
VERSION:2.0
PRODID:-//Cádiz es Flamenco - ECPv5.0.2.1//NONSGML v1.0//EN
CALSCALE:GREGORIAN
METHOD:PUBLISH
X-WR-CALNAME:Cádiz es Flamenco
X-ORIGINAL-URL:https://www.cadizesflamenco.com
X-WR-CALDESC:Eventos para Cádiz es Flamenco
BEGIN:VTIMEZONE
TZID:UTC
BEGIN:STANDARD
TZOFFSETFROM:+0000
TZOFFSETTO:+0000
TZNAME:UTC
DTSTART:20250101T000000
END:STANDARD
END:VTIMEZONE
BEGIN:VEVENT
DTSTART;TZID=UTC:20250802T220000
DTEND;TZID=UTC:20250802T220000
DTSTAMP:20260425T185909
CREATED:20250802T220043Z
LAST-MODIFIED:20250910T105153Z
UID:22399-1754172000-1754172000@www.cadizesflamenco.com
SUMMARY:Flamenco en Los Balcones: TEATRO FALLA
DESCRIPTION:[vc_row][vc_column][vc_column_text]2 de agosto 22h \nCante: Esmeralda Rancapino y  Manoli de Gertrudis \nPalmas: Luís de Pijote y Ramón del Puerto \nGuitarra: Niño de la Leo[/vc_column_text][/vc_column][/vc_row] \n
URL:https://www.cadizesflamenco.com/event/balcon-flamenco-teatro-falla-2025/
LOCATION:Gran Teatro Falla\, Plaza de Falla s/n\, Cádiz\, Cádiz\, 11003\, España
CATEGORIES:Festival Patrimonio Flamenco 2025
ATTACH;FMTTYPE=image/jpeg:https://www.cadizesflamenco.com/wp-content/uploads/2025/06/2-DE-agosto-ESMERLDA-RANCAPINO-e1753357888442.jpg
END:VEVENT
END:VCALENDAR