BEGIN:VCALENDAR
VERSION:2.0
PRODID:-//Cádiz es Flamenco - ECPv5.0.2.1//NONSGML v1.0//EN
CALSCALE:GREGORIAN
METHOD:PUBLISH
X-WR-CALNAME:Cádiz es Flamenco
X-ORIGINAL-URL:https://www.cadizesflamenco.com
X-WR-CALDESC:Eventos para Cádiz es Flamenco
BEGIN:VTIMEZONE
TZID:UTC
BEGIN:STANDARD
TZOFFSETFROM:+0000
TZOFFSETTO:+0000
TZNAME:UTC
DTSTART:20250101T000000
END:STANDARD
END:VTIMEZONE
BEGIN:VEVENT
DTSTART;TZID=UTC:20250805T220000
DTEND;TZID=UTC:20250805T220000
DTSTAMP:20260425T201842
CREATED:20250805T220052Z
LAST-MODIFIED:20250910T105135Z
UID:22410-1754431200-1754431200@www.cadizesflamenco.com
SUMMARY:Flamenco en Los Balcones: PLAZA CANDELARIA
DESCRIPTION:[vc_row][vc_column][vc_column_text]5 de agosto 22h \nCante: José Méndez y Nuria Carrasco. \nPalmas: Mario el Gafa Chico y Alvarito de la Mari. \nGuitarra: Niño de la Leo \n[/vc_column_text][/vc_column][/vc_row] \n
URL:https://www.cadizesflamenco.com/event/balcon-flamenco-plaza-candelaria/
LOCATION:Plaza Candelaria\, Cádiz\, España
CATEGORIES:Festival Patrimonio Flamenco 2025
ATTACH;FMTTYPE=image/jpeg:https://www.cadizesflamenco.com/wp-content/uploads/2025/06/5-agosto-JOSÉ-MÉNDEZ.jpeg
END:VEVENT
END:VCALENDAR