BEGIN:VCALENDAR
VERSION:2.0
PRODID:-//Cádiz es Flamenco - ECPv5.0.2.1//NONSGML v1.0//EN
CALSCALE:GREGORIAN
METHOD:PUBLISH
X-WR-CALNAME:Cádiz es Flamenco
X-ORIGINAL-URL:https://www.cadizesflamenco.com
X-WR-CALDESC:Eventos para Cádiz es Flamenco
BEGIN:VTIMEZONE
TZID:UTC
BEGIN:STANDARD
TZOFFSETFROM:+0000
TZOFFSETTO:+0000
TZNAME:UTC
DTSTART:20250101T000000
END:STANDARD
END:VTIMEZONE
BEGIN:VEVENT
DTSTART;TZID=UTC:20250808T220000
DTEND;TZID=UTC:20250808T220000
DTSTAMP:20260425T202141
CREATED:20250808T220001Z
LAST-MODIFIED:20250910T104828Z
UID:22422-1754690400-1754690400@www.cadizesflamenco.com
SUMMARY:ÁNGELES TOLEDANO presenta SANGRE SUCIA
DESCRIPTION:[vc_row][vc_column][vc_single_image image=»22792″ img_size=»medium»][vc_column_text]8 de agosto 22h \nCastillo de Santa Catalina \nÁNGELES TOLEDANO presenta SANGRE SUCIA. Cante \nPrecio: 15€; Menores de 25 años: 6€; Abono de los 5 espectáculos: 60€ \nCOMPRAR ENTRADAS[/vc_column_text][/vc_column][/vc_row][vc_row][vc_column][vc_column_text]Ángeles Toledano: cante y programaciones \nBenito Bernal: guitarra flamenca \nManu Masaedo: batería\, percusiones y programaciones \nBelén Vega: coros y palmas \nSara Corea: coros y palmas \nSu particular universo flamenco\, lleno de fantasía y absoluto embrujo. Un frondoso viaje por su imaginario\, que atraviesa el flamenco de manera inteligente\, sensible y poderosa. Un disco de autora\, con sus propias letras y su propia voz\, que es el fruto indiscutible de la contemporaneidad de la cantaora y un emocionante viaje en escena. \n  \nÁNGELES TOLEDANO (Villanueva de la Reina\, Jaén\, 1995). Prometedora voz del flamenco actual y con años de cante a sus espaldas\, a pesar de su juventud. Su proyección en el género sitúa al flamenco en el presente\, y queda respaldada por su sensibilidad\, experiencia y reconocimiento. \nEn este concierto la cantaora presentará en directo su nuevo disco\, «SANGRE SUCIA»\, su particular universo flamenco\, lleno de fantasía y absoluto embrujo. Un frondoso viaje por su imaginario\, que atraviesa el flamenco de manera inteligente\, sensible y poderosa. Un disco de autora\, con sus propias letras y su propia voz\, que es el fruto indiscutible de la contemporaneidad de la cantaora y un emocionante viaje en escena. \nTras años de interpretación del flamenco por tantos escenarios\, ha llegado el momento de darle forma a sus propias canciones en este esperado disco que\, más que un debut\, se presenta como una confirmación. \nLa cantaora lleva al directo su “Sangre Sucia” acompañada por un elenco joven y despierto que ha realizado un trabajo muy interesante para trasladar este disco al espectáculo en directo. \n  \nTRAYECTORIA: \nLa cantaora Ángeles Toledano se inicia en el flamenco a muy temprana edad\, a los seis años\, en el ámbito doméstico\, gracias a su abuelo. Su infancia y juventud estuvieron dedicadas a su formación y estudio del flamenco\, participando además en decenas de concursos y certámenes. Con apenas veinte años pasó a formar parte de la compañía del ilustre guitarrista cordobés Paco Peña\, con quien ha realizado giras por Holanda\, actuando en Delamar Theater de Amsterdam\, Nieuwe Luxor Theater de Rotterdam o la Philharmonie de Harleem con los espectáculos «Patrias» y «Réquiem por la Tierra». \nLa artista ha participado en giras por Estados Unidos y México con el espectáculo «Nueva Generación de Jóvenes Flamencos» por ciudades como San Francisco\, Houston\, San Diego y Tijuana actuando en el Mountain View Center de Santa Clara (California) y The North Chapel de San Diego (California). En los últimos años algunas de sus actuaciones más representativas han sido en el Auditorio Nacional de Música de Madrid acompañando al célebre cantaor Arcángel\, la Noche Blanca de Córdoba junto con Remedios Amaya\, el festival MISA (Music in the Summer Air) en el espectáculo «Claroscuro» de Ángel Muñoz en la ciudad de Shangái (China). También ha girado con su propio recital\, “1995”\, por España y otros lugares de Europa. \nActualmente se encuentra girando su primer trabajo discográfico\, Sangre Sucia\, lanzado en septiembre de 2024\, con el que se ha ganado el favor de crítica y público\, tras más de una decena de conciertos. \nLa precoz carrera de la artista ha sido ampliamente reconocida\, habiendo sido galardonada con el Primer premio Joven en el Concurso Nacional de Cante Flamenco Antonio Mairena (Sevilla)\, Sartén de Oro de la Ciudad de Écija (Sevilla)\, Galardón en la modalidad de arte concedido por el Instituto Andaluz de la Juventud y un bonito etcétera que continúa hasta el más reciente reconocimiento: premio del Festival de Jerez 2024 al Mejor Cante de Acompañamiento\, por su participación en “Alter Ego”\, de Alfonso Losa y Patricia Guerrero\, entregado el pasado febrero de 2025. Días más tarde\, presentó en el mismo Festival de Jerez su espectáculo “Sangre Sucia”. \n  \n \n  \nVENTA DE ENTRADAS \nPrecio 15€ por espectáculo en el Castillo Santa Catalina\, \nPrecios especiales para menores de 25 años: 6€ por espectáculo \nAbono 5 espectáculos CASTILLO SANTA CATALINA : 60€ \nEl ciclo Flamenco en los Balcones es GRATUITO. \n  \nTAQUILLA GRAN TEATRO FALLA \nDe martes a viernes de 10.30h. a 13.30h. (julio y agosto) \n  \nTAQUILLA CASTILLO SANTA CATALINA \n1 hora antes del comienzo de cada espectáculo. Solo se podrán adquirir localidades para el espectáculo de ese día\, siempre que queden entradas disponibles. \n  \nSERVICIOS DE BACANTIX \nCOMPRAR ENTRADAS \nLas localidades adquiridas a través de los servicios de Bacantix generan comisión. \n  \n\nUna vez comenzado el espectáculo\, no está permitido el acceso al espacio.\nLos menores a partir de 3 años\, abonarán su localidad.\nNo se admiten reservas\, cambios ni devoluciones.\nEl acceso al espacio no estará permitido con bebidas y/o alimentos.\n\n  \n+ info: \nwww.cadizesflamenco.com \n  \nFACEBOOK / TWITTER:  @FlamencoCadiz \nINSTAGRAM /YOUTUBE: @cadizesflamenco[/vc_column_text][/vc_column][/vc_row] \n
URL:https://www.cadizesflamenco.com/event/angeles-toledano-castillo-santa-catalina/
LOCATION:Castillo de Santa Catalina Cádiz\, C/ Antonio Burgos\, s/n\, Cádiz\, Cádiz\, España
CATEGORIES:Festival Patrimonio Flamenco 2025
ATTACH;FMTTYPE=image/jpeg:https://www.cadizesflamenco.com/wp-content/uploads/2025/06/8-AGOSTO-ÁNGELES-TOLEDANO-FotoMaraAlonso-2-scaled.jpg
END:VEVENT
END:VCALENDAR