BEGIN:VCALENDAR
VERSION:2.0
PRODID:-//Cádiz es Flamenco - ECPv5.0.2.1//NONSGML v1.0//EN
CALSCALE:GREGORIAN
METHOD:PUBLISH
X-WR-CALNAME:Cádiz es Flamenco
X-ORIGINAL-URL:https://www.cadizesflamenco.com
X-WR-CALDESC:Eventos para Cádiz es Flamenco
BEGIN:VTIMEZONE
TZID:UTC
BEGIN:STANDARD
TZOFFSETFROM:+0000
TZOFFSETTO:+0000
TZNAME:UTC
DTSTART:20220101T000000
END:STANDARD
END:VTIMEZONE
BEGIN:VEVENT
DTSTART;TZID=UTC:20220422T000000
DTEND;TZID=UTC:20220531T000000
DTSTAMP:20260422T123539
CREATED:20220329T095707Z
LAST-MODIFIED:20220419T114101Z
UID:18558-1650585600-1653955200@www.cadizesflamenco.com
SUMMARY:ACTIVIDADES PARALELAS
DESCRIPTION:FORMACIÓN \n  \nVIERNES 22 DE ABRIL 13h. \nCLASE MAGISTRAL CANTE FLAMENCO \nJOSÉ ANILLO \nTodos los niveles \nGratuito. \nEl aforo será de 15 a 20 personas. Necesaria solicitud y confirmación de admisión previa. La admisión será por orden de inscripción hasta completar aforo. \nABIERTO PLAZO DE INSCRIPCIÓN: \nRelena este formulario: \nhttps://forms.gle/uDiR642ERqTBzebe7 \nPara más información: cadizesflamenco@gmail.com \n  \nLUNES 27 DE JUNIO 15h. \nCLASE MAGISTRAL BAILE FLAMENCO CONTEMPORÁNEO \nJUAN CARLOS AVECILLA \nNivel medio/avanzado \n  \n  \nSEMINARIO \n  \nSEMINARIO “FLAMENCO Y EMPLEO” \nImpartido por Ezequiel Arauz y Carmen Reiné \n  \n26 de ABRIL 12h \nHERRAMIENTAS PARA CREAR UNA EMPRESA FLAMENCA \n  \n17 DE MAYO  12h \nHERRAMIENTAS PARA CREAR UNA ASOCIACIÓN FLAMENCA \n  \n31 DE MAYO  12h \nLA PROPIEDAD INTELECTUAL Y DERECHOS DE AUTOR PARA ARTISTAS FLAMENCOS. \n  \nLa formación y seminario serán gratuitos. \nEl aforo será de 15 a 20 personas dependiendo de la clase magistral o taller. Necesaria solicitud y confirmación de admisión previa. \nEn las clases de nivel intermedio la admisión es curricular. Las enfocadas para todos los niveles\, serán por orden de inscripción hasta completar  aforo. \nPara más información: cadizesflamenco@gmail.com \n
URL:https://www.cadizesflamenco.com/event/actividades-paralelas/
LOCATION:Centro Flamenco La Merced\, Plaza de la Merced\, Cádiz\, Cádiz\, 11005\, España
CATEGORIES:Programación la Merced
ATTACH;FMTTYPE=image/jpeg:https://www.cadizesflamenco.com/wp-content/uploads/2022/03/actividades-paralelas.jpg
END:VEVENT
END:VCALENDAR